Workbook

Sheet Start here
A1: OKR spreadsheet template
A2: Track objectives, key results and weekly check-ins in one file. Rows marked (example) are there to show how it works: delete them when you add your own.
A4: How to start
A5: 1. Settings: type your cycle start and end dates. Until you do, the file uses the current quarter.
A6: 2. OKRs: one row per key result. Fill in team, objective, key result, a short KR ID, one owner, a start and a target value. The gray columns fill themselves. Rows 2 to 31 are ready; for more, select the gray cells of the last row and drag them down.
A7: 3. Check-ins: every week, each owner adds a new row per key result (date, KR ID, new value, health, one-line comment). Add rows at the bottom and never edit old ones: the newest row is the current value.
A8: 4. Dashboard: column A lists the objectives from the OKRs tab by itself, up to 10, so don't type in it. Start the weekly review with stale key results and objectives behind pace.
A9: 5. Share the file with edit access for owners, and protect the gray columns so nobody types over a formula.
A11: Health
A12: On track: the key result will hit its target at this pace
A13: At risk: it may miss without a change
A14: Behind: it will miss without help
... A25: Setup guide and weekly routine: effortbox.com/blog/okr-spreadsheet

Sheet Dashboard
A1: OKR dashboard
A2: ="Cycle: "&TEXT(Settings!$B$1,"mmm d")&" to "&TEXT(Settings!$B$2,"mmm d, yyyy")
A4: Cycle
A5: Days left | B5: =MAX(0,Settings!$B$2-TODAY())
A6: Cycle elapsed | B6: =MAX(0,MIN(1,(TODAY()-Settings!$B$1)/(Settings!$B$2-Settings!$B$1)))
A8: Key results
A9: On track | B9: =COUNTIF(OKRs!$J$2:$J$31,"On track")
A10: At risk | B10: =COUNTIF(OKRs!$J$2:$J$31,"At risk")
A11: Behind | B11: =COUNTIF(OKRs!$J$2:$J$31,"Behind")
A12: No status | B12: =COUNTIF(OKRs!$J$2:$J$31,"No status")
A13: Stale (no recent check-in) | B13: =COUNTIF(OKRs!$L$2:$L$31,">"&Settings!$B$3)
A15: Objective | B15: Progress | C15: Progress bar | D15: At risk or behind | E15: Gap to pace
A16: {=IFERROR(INDEX(OKRs!$B$2:$B$31,MATCH(0,COUNTIF($A$15:A15,OKRs!$B$2:$B$31)+(OKRs!$B$2:$B$31=""),0)),"")} | B16: =IF(A16="","",AVERAGEIFS(OKRs!$I$2:$I$31,OKRs!$B$2:$B$31,A16)) | C16: =B16 | D16: =IF(A16="","",COUNTIFS(OKRs!$B$2:$B$31,A16,OKRs!$J$2:$J$31,"At risk")+COUNTIFS(OKRs!$B$2:$B$31,A16,OKRs!$J$2:$J$31,"Behind")) | E16: =IF(A16="","",B16-$B$6)
A17: {=IFERROR(INDEX(OKRs!$B$2:$B$31,MATCH(0,COUNTIF($A$15:A16,OKRs!$B$2:$B$31)+(OKRs!$B$2:$B$31=""),0)),"")} | B17: =IF(A17="","",AVERAGEIFS(OKRs!$I$2:$I$31,OKRs!$B$2:$B$31,A17)) | C17: =B17 | D17: =IF(A17="","",COUNTIFS(OKRs!$B$2:$B$31,A17,OKRs!$J$2:$J$31,"At risk")+COUNTIFS(OKRs!$B$2:$B$31,A17,OKRs!$J$2:$J$31,"Behind")) | E17: =IF(A17="","",B17-$B$6)
A18: {=IFERROR(INDEX(OKRs!$B$2:$B$31,MATCH(0,COUNTIF($A$15:A17,OKRs!$B$2:$B$31)+(OKRs!$B$2:$B$31=""),0)),"")} | B18: =IF(A18="","",AVERAGEIFS(OKRs!$I$2:$I$31,OKRs!$B$2:$B$31,A18)) | C18: =B18 | D18: =IF(A18="","",COUNTIFS(OKRs!$B$2:$B$31,A18,OKRs!$J$2:$J$31,"At risk")+COUNTIFS(OKRs!$B$2:$B$31,A18,OKRs!$J$2:$J$31,"Behind")) | E18: =IF(A18="","",B18-$B$6)
A19: {=IFERROR(INDEX(OKRs!$B$2:$B$31,MATCH(0,COUNTIF($A$15:A18,OKRs!$B$2:$B$31)+(OKRs!$B$2:$B$31=""),0)),"")} | B19: =IF(A19="","",AVERAGEIFS(OKRs!$I$2:$I$31,OKRs!$B$2:$B$31,A19)) | C19: =B19 | D19: =IF(A19="","",COUNTIFS(OKRs!$B$2:$B$31,A19,OKRs!$J$2:$J$31,"At risk")+COUNTIFS(OKRs!$B$2:$B$31,A19,OKRs!$J$2:$J$31,"Behind")) | E19: =IF(A19="","",B19-$B$6)
A20: {=IFERROR(INDEX(OKRs!$B$2:$B$31,MATCH(0,COUNTIF($A$15:A19,OKRs!$B$2:$B$31)+(OKRs!$B$2:$B$31=""),0)),"")} | B20: =IF(A20="","",AVERAGEIFS(OKRs!$I$2:$I$31,OKRs!$B$2:$B$31,A20)) | C20: =B20 | D20: =IF(A20="","",COUNTIFS(OKRs!$B$2:$B$31,A20,OKRs!$J$2:$J$31,"At risk")+COUNTIFS(OKRs!$B$2:$B$31,A20,OKRs!$J$2:$J$31,"Behind")) | E20: =IF(A20="","",B20-$B$6)
A21: {=IFERROR(INDEX(OKRs!$B$2:$B$31,MATCH(0,COUNTIF($A$15:A20,OKRs!$B$2:$B$31)+(OKRs!$B$2:$B$31=""),0)),"")} | B21: =IF(A21="","",AVERAGEIFS(OKRs!$I$2:$I$31,OKRs!$B$2:$B$31,A21)) | C21: =B21 | D21: =IF(A21="","",COUNTIFS(OKRs!$B$2:$B$31,A21,OKRs!$J$2:$J$31,"At risk")+COUNTIFS(OKRs!$B$2:$B$31,A21,OKRs!$J$2:$J$31,"Behind")) | E21: =IF(A21="","",B21-$B$6)
A22: {=IFERROR(INDEX(OKRs!$B$2:$B$31,MATCH(0,COUNTIF($A$15:A21,OKRs!$B$2:$B$31)+(OKRs!$B$2:$B$31=""),0)),"")} | B22: =IF(A22="","",AVERAGEIFS(OKRs!$I$2:$I$31,OKRs!$B$2:$B$31,A22)) | C22: =B22 | D22: =IF(A22="","",COUNTIFS(OKRs!$B$2:$B$31,A22,OKRs!$J$2:$J$31,"At risk")+COUNTIFS(OKRs!$B$2:$B$31,A22,OKRs!$J$2:$J$31,"Behind")) | E22: =IF(A22="","",B22-$B$6)
A23: {=IFERROR(INDEX(OKRs!$B$2:$B$31,MATCH(0,COUNTIF($A$15:A22,OKRs!$B$2:$B$31)+(OKRs!$B$2:$B$31=""),0)),"")} | B23: =IF(A23="","",AVERAGEIFS(OKRs!$I$2:$I$31,OKRs!$B$2:$B$31,A23)) | C23: =B23 | D23: =IF(A23="","",COUNTIFS(OKRs!$B$2:$B$31,A23,OKRs!$J$2:$J$31,"At risk")+COUNTIFS(OKRs!$B$2:$B$31,A23,OKRs!$J$2:$J$31,"Behind")) | E23: =IF(A23="","",B23-$B$6)
A24: {=IFERROR(INDEX(OKRs!$B$2:$B$31,MATCH(0,COUNTIF($A$15:A23,OKRs!$B$2:$B$31)+(OKRs!$B$2:$B$31=""),0)),"")} | B24: =IF(A24="","",AVERAGEIFS(OKRs!$I$2:$I$31,OKRs!$B$2:$B$31,A24)) | C24: =B24 | D24: =IF(A24="","",COUNTIFS(OKRs!$B$2:$B$31,A24,OKRs!$J$2:$J$31,"At risk")+COUNTIFS(OKRs!$B$2:$B$31,A24,OKRs!$J$2:$J$31,"Behind")) | E24: =IF(A24="","",B24-$B$6)
A25: {=IFERROR(INDEX(OKRs!$B$2:$B$31,MATCH(0,COUNTIF($A$15:A24,OKRs!$B$2:$B$31)+(OKRs!$B$2:$B$31=""),0)),"")} | B25: =IF(A25="","",AVERAGEIFS(OKRs!$I$2:$I$31,OKRs!$B$2:$B$31,A25)) | C25: =B25 | D25: =IF(A25="","",COUNTIFS(OKRs!$B$2:$B$31,A25,OKRs!$J$2:$J$31,"At risk")+COUNTIFS(OKRs!$B$2:$B$31,A25,OKRs!$J$2:$J$31,"Behind")) | E25: =IF(A25="","",B25-$B$6)
A27: Gap to pace = objective progress minus the share of the cycle that has passed. Negative means behind pace.

Sheet OKRs
A1: Team | B1: Objective | C1: Key result | D1: KR ID | E1: Owner | F1: Start | G1: Target | H1: Current | I1: Progress | J1: Health | K1: Last check-in | L1: Days since check-in | M1: Progress bar
A2: Sales | B2: Win more mid-market deals (example) | C2: Raise demo-to-close rate from 18% to 25% | D2: S-1 | E2: Dana | F2: 18 | G2: 25 | H2: =IF(D2="","",_xlfn.XLOOKUP(D2,'Check-ins'!$B$2:$B$500,'Check-ins'!$C$2:$C$500,F2,0,-1)) | I2: =IF(COUNT(F2:H2)<3,"",IF(G2=F2,IF(H2=G2,1,0),MAX(0,MIN(1,(H2-F2)/(G2-F2))))) | J2: =IF(D2="","",_xlfn.XLOOKUP(D2,'Check-ins'!$B$2:$B$500,'Check-ins'!$D$2:$D$500,"No status",0,-1)) | K2: =IF(D2="","",_xlfn.XLOOKUP(D2,'Check-ins'!$B$2:$B$500,'Check-ins'!$A$2:$A$500,"",0,-1)) | L2: =IF(D2="","",TODAY()-IF(K2="",Settings!$B$1,K2)) | M2: =I2
A3: Sales | B3: Win more mid-market deals (example) | C3: Cut first-response time from 72 to 12 hours | D3: S-2 | E3: Lee | F3: 72 | G3: 12 | H3: =IF(D3="","",_xlfn.XLOOKUP(D3,'Check-ins'!$B$2:$B$500,'Check-ins'!$C$2:$C$500,F3,0,-1)) | I3: =IF(COUNT(F3:H3)<3,"",IF(G3=F3,IF(H3=G3,1,0),MAX(0,MIN(1,(H3-F3)/(G3-F3))))) | J3: =IF(D3="","",_xlfn.XLOOKUP(D3,'Check-ins'!$B$2:$B$500,'Check-ins'!$D$2:$D$500,"No status",0,-1)) | K3: =IF(D3="","",_xlfn.XLOOKUP(D3,'Check-ins'!$B$2:$B$500,'Check-ins'!$A$2:$A$500,"",0,-1)) | L3: =IF(D3="","",TODAY()-IF(K3="",Settings!$B$1,K3)) | M3: =I3
A4: Sales | B4: Win more mid-market deals (example) | C4: Sign 5 new reseller partners | D4: S-3 | E4: Dana | F4: 0 | G4: 5 | H4: =IF(D4="","",_xlfn.XLOOKUP(D4,'Check-ins'!$B$2:$B$500,'Check-ins'!$C$2:$C$500,F4,0,-1)) | I4: =IF(COUNT(F4:H4)<3,"",IF(G4=F4,IF(H4=G4,1,0),MAX(0,MIN(1,(H4-F4)/(G4-F4))))) | J4: =IF(D4="","",_xlfn.XLOOKUP(D4,'Check-ins'!$B$2:$B$500,'Check-ins'!$D$2:$D$500,"No status",0,-1)) | K4: =IF(D4="","",_xlfn.XLOOKUP(D4,'Check-ins'!$B$2:$B$500,'Check-ins'!$A$2:$A$500,"",0,-1)) | L4: =IF(D4="","",TODAY()-IF(K4="",Settings!$B$1,K4)) | M4: =I4
A5: Product | B5: Make onboarding self-serve (example) | C5: Launch the in-app setup checklist | D5: P-1 | E5: Ana | F5: 0 | G5: 1 | H5: =IF(D5="","",_xlfn.XLOOKUP(D5,'Check-ins'!$B$2:$B$500,'Check-ins'!$C$2:$C$500,F5,0,-1)) | I5: =IF(COUNT(F5:H5)<3,"",IF(G5=F5,IF(H5=G5,1,0),MAX(0,MIN(1,(H5-F5)/(G5-F5))))) | J5: =IF(D5="","",_xlfn.XLOOKUP(D5,'Check-ins'!$B$2:$B$500,'Check-ins'!$D$2:$D$500,"No status",0,-1)) | K5: =IF(D5="","",_xlfn.XLOOKUP(D5,'Check-ins'!$B$2:$B$500,'Check-ins'!$A$2:$A$500,"",0,-1)) | L5: =IF(D5="","",TODAY()-IF(K5="",Settings!$B$1,K5)) | M5: =I5
A6: Product | B6: Make onboarding self-serve (example) | C6: Raise week-1 activation from 35% to 50% | D6: P-2 | E6: Omar | F6: 35 | G6: 50 | H6: =IF(D6="","",_xlfn.XLOOKUP(D6,'Check-ins'!$B$2:$B$500,'Check-ins'!$C$2:$C$500,F6,0,-1)) | I6: =IF(COUNT(F6:H6)<3,"",IF(G6=F6,IF(H6=G6,1,0),MAX(0,MIN(1,(H6-F6)/(G6-F6))))) | J6: =IF(D6="","",_xlfn.XLOOKUP(D6,'Check-ins'!$B$2:$B$500,'Check-ins'!$D$2:$D$500,"No status",0,-1)) | K6: =IF(D6="","",_xlfn.XLOOKUP(D6,'Check-ins'!$B$2:$B$500,'Check-ins'!$A$2:$A$500,"",0,-1)) | L6: =IF(D6="","",TODAY()-IF(K6="",Settings!$B$1,K6)) | M6: =I6
A7: Customer Success | B7: Keep our best customers (example) | C7: Cut monthly churn from 3% to 2% | D7: C-1 | E7: Mia | F7: 3 | G7: 2 | H7: =IF(D7="","",_xlfn.XLOOKUP(D7,'Check-ins'!$B$2:$B$500,'Check-ins'!$C$2:$C$500,F7,0,-1)) | I7: =IF(COUNT(F7:H7)<3,"",IF(G7=F7,IF(H7=G7,1,0),MAX(0,MIN(1,(H7-F7)/(G7-F7))))) | J7: =IF(D7="","",_xlfn.XLOOKUP(D7,'Check-ins'!$B$2:$B$500,'Check-ins'!$D$2:$D$500,"No status",0,-1)) | K7: =IF(D7="","",_xlfn.XLOOKUP(D7,'Check-ins'!$B$2:$B$500,'Check-ins'!$A$2:$A$500,"",0,-1)) | L7: =IF(D7="","",TODAY()-IF(K7="",Settings!$B$1,K7)) | M7: =I7
A8: Customer Success | B8: Keep our best customers (example) | C8: Hold quarterly reviews with all 20 top accounts | D8: C-2 | E8: Mia | F8: 0 | G8: 20 | H8: =IF(D8="","",_xlfn.XLOOKUP(D8,'Check-ins'!$B$2:$B$500,'Check-ins'!$C$2:$C$500,F8,0,-1)) | I8: =IF(COUNT(F8:H8)<3,"",IF(G8=F8,IF(H8=G8,1,0),MAX(0,MIN(1,(H8-F8)/(G8-F8))))) | J8: =IF(D8="","",_xlfn.XLOOKUP(D8,'Check-ins'!$B$2:$B$500,'Check-ins'!$D$2:$D$500,"No status",0,-1)) | K8: =IF(D8="","",_xlfn.XLOOKUP(D8,'Check-ins'!$B$2:$B$500,'Check-ins'!$A$2:$A$500,"",0,-1)) | L8: =IF(D8="","",TODAY()-IF(K8="",Settings!$B$1,K8)) | M8: =I8
H9: =IF(D9="","",_xlfn.XLOOKUP(D9,'Check-ins'!$B$2:$B$500,'Check-ins'!$C$2:$C$500,F9,0,-1)) | I9: =IF(COUNT(F9:H9)<3,"",IF(G9=F9,IF(H9=G9,1,0),MAX(0,MIN(1,(H9-F9)/(G9-F9))))) | J9: =IF(D9="","",_xlfn.XLOOKUP(D9,'Check-ins'!$B$2:$B$500,'Check-ins'!$D$2:$D$500,"No status",0,-1)) | K9: =IF(D9="","",_xlfn.XLOOKUP(D9,'Check-ins'!$B$2:$B$500,'Check-ins'!$A$2:$A$500,"",0,-1)) | L9: =IF(D9="","",TODAY()-IF(K9="",Settings!$B$1,K9)) | M9: =I9
H10: =IF(D10="","",_xlfn.XLOOKUP(D10,'Check-ins'!$B$2:$B$500,'Check-ins'!$C$2:$C$500,F10,0,-1)) | I10: =IF(COUNT(F10:H10)<3,"",IF(G10=F10,IF(H10=G10,1,0),MAX(0,MIN(1,(H10-F10)/(G10-F10))))) | J10: =IF(D10="","",_xlfn.XLOOKUP(D10,'Check-ins'!$B$2:$B$500,'Check-ins'!$D$2:$D$500,"No status",0,-1)) | K10: =IF(D10="","",_xlfn.XLOOKUP(D10,'Check-ins'!$B$2:$B$500,'Check-ins'!$A$2:$A$500,"",0,-1)) | L10: =IF(D10="","",TODAY()-IF(K10="",Settings!$B$1,K10)) | M10: =I10
H11: =IF(D11="","",_xlfn.XLOOKUP(D11,'Check-ins'!$B$2:$B$500,'Check-ins'!$C$2:$C$500,F11,0,-1)) | I11: =IF(COUNT(F11:H11)<3,"",IF(G11=F11,IF(H11=G11,1,0),MAX(0,MIN(1,(H11-F11)/(G11-F11))))) | J11: =IF(D11="","",_xlfn.XLOOKUP(D11,'Check-ins'!$B$2:$B$500,'Check-ins'!$D$2:$D$500,"No status",0,-1)) | K11: =IF(D11="","",_xlfn.XLOOKUP(D11,'Check-ins'!$B$2:$B$500,'Check-ins'!$A$2:$A$500,"",0,-1)) | L11: =IF(D11="","",TODAY()-IF(K11="",Settings!$B$1,K11)) | M11: =I11
H12: =IF(D12="","",_xlfn.XLOOKUP(D12,'Check-ins'!$B$2:$B$500,'Check-ins'!$C$2:$C$500,F12,0,-1)) | I12: =IF(COUNT(F12:H12)<3,"",IF(G12=F12,IF(H12=G12,1,0),MAX(0,MIN(1,(H12-F12)/(G12-F12))))) | J12: =IF(D12="","",_xlfn.XLOOKUP(D12,'Check-ins'!$B$2:$B$500,'Check-ins'!$D$2:$D$500,"No status",0,-1)) | K12: =IF(D12="","",_xlfn.XLOOKUP(D12,'Check-ins'!$B$2:$B$500,'Check-ins'!$A$2:$A$500,"",0,-1)) | L12: =IF(D12="","",TODAY()-IF(K12="",Settings!$B$1,K12)) | M12: =I12
H13: =IF(D13="","",_xlfn.XLOOKUP(D13,'Check-ins'!$B$2:$B$500,'Check-ins'!$C$2:$C$500,F13,0,-1)) | I13: =IF(COUNT(F13:H13)<3,"",IF(G13=F13,IF(H13=G13,1,0),MAX(0,MIN(1,(H13-F13)/(G13-F13))))) | J13: =IF(D13="","",_xlfn.XLOOKUP(D13,'Check-ins'!$B$2:$B$500,'Check-ins'!$D$2:$D$500,"No status",0,-1)) | K13: =IF(D13="","",_xlfn.XLOOKUP(D13,'Check-ins'!$B$2:$B$500,'Check-ins'!$A$2:$A$500,"",0,-1)) | L13: =IF(D13="","",TODAY()-IF(K13="",Settings!$B$1,K13)) | M13: =I13
H14: =IF(D14="","",_xlfn.XLOOKUP(D14,'Check-ins'!$B$2:$B$500,'Check-ins'!$C$2:$C$500,F14,0,-1)) | I14: =IF(COUNT(F14:H14)<3,"",IF(G14=F14,IF(H14=G14,1,0),MAX(0,MIN(1,(H14-F14)/(G14-F14))))) | J14: =IF(D14="","",_xlfn.XLOOKUP(D14,'Check-ins'!$B$2:$B$500,'Check-ins'!$D$2:$D$500,"No status",0,-1)) | K14: =IF(D14="","",_xlfn.XLOOKUP(D14,'Check-ins'!$B$2:$B$500,'Check-ins'!$A$2:$A$500,"",0,-1)) | L14: =IF(D14="","",TODAY()-IF(K14="",Settings!$B$1,K14)) | M14: =I14
H15: =IF(D15="","",_xlfn.XLOOKUP(D15,'Check-ins'!$B$2:$B$500,'Check-ins'!$C$2:$C$500,F15,0,-1)) | I15: =IF(COUNT(F15:H15)<3,"",IF(G15=F15,IF(H15=G15,1,0),MAX(0,MIN(1,(H15-F15)/(G15-F15))))) | J15: =IF(D15="","",_xlfn.XLOOKUP(D15,'Check-ins'!$B$2:$B$500,'Check-ins'!$D$2:$D$500,"No status",0,-1)) | K15: =IF(D15="","",_xlfn.XLOOKUP(D15,'Check-ins'!$B$2:$B$500,'Check-ins'!$A$2:$A$500,"",0,-1)) | L15: =IF(D15="","",TODAY()-IF(K15="",Settings!$B$1,K15)) | M15: =I15
H16: =IF(D16="","",_xlfn.XLOOKUP(D16,'Check-ins'!$B$2:$B$500,'Check-ins'!$C$2:$C$500,F16,0,-1)) | I16: =IF(COUNT(F16:H16)<3,"",IF(G16=F16,IF(H16=G16,1,0),MAX(0,MIN(1,(H16-F16)/(G16-F16))))) | J16: =IF(D16="","",_xlfn.XLOOKUP(D16,'Check-ins'!$B$2:$B$500,'Check-ins'!$D$2:$D$500,"No status",0,-1)) | K16: =IF(D16="","",_xlfn.XLOOKUP(D16,'Check-ins'!$B$2:$B$500,'Check-ins'!$A$2:$A$500,"",0,-1)) | L16: =IF(D16="","",TODAY()-IF(K16="",Settings!$B$1,K16)) | M16: =I16
H17: =IF(D17="","",_xlfn.XLOOKUP(D17,'Check-ins'!$B$2:$B$500,'Check-ins'!$C$2:$C$500,F17,0,-1)) | I17: =IF(COUNT(F17:H17)<3,"",IF(G17=F17,IF(H17=G17,1,0),MAX(0,MIN(1,(H17-F17)/(G17-F17))))) | J17: =IF(D17="","",_xlfn.XLOOKUP(D17,'Check-ins'!$B$2:$B$500,'Check-ins'!$D$2:$D$500,"No status",0,-1)) | K17: =IF(D17="","",_xlfn.XLOOKUP(D17,'Check-ins'!$B$2:$B$500,'Check-ins'!$A$2:$A$500,"",0,-1)) | L17: =IF(D17="","",TODAY()-IF(K17="",Settings!$B$1,K17)) | M17: =I17
H18: =IF(D18="","",_xlfn.XLOOKUP(D18,'Check-ins'!$B$2:$B$500,'Check-ins'!$C$2:$C$500,F18,0,-1)) | I18: =IF(COUNT(F18:H18)<3,"",IF(G18=F18,IF(H18=G18,1,0),MAX(0,MIN(1,(H18-F18)/(G18-F18))))) | J18: =IF(D18="","",_xlfn.XLOOKUP(D18,'Check-ins'!$B$2:$B$500,'Check-ins'!$D$2:$D$500,"No status",0,-1)) | K18: =IF(D18="","",_xlfn.XLOOKUP(D18,'Check-ins'!$B$2:$B$500,'Check-ins'!$A$2:$A$500,"",0,-1)) | L18: =IF(D18="","",TODAY()-IF(K18="",Settings!$B$1,K18)) | M18: =I18
H19: =IF(D19="","",_xlfn.XLOOKUP(D19,'Check-ins'!$B$2:$B$500,'Check-ins'!$C$2:$C$500,F19,0,-1)) | I19: =IF(COUNT(F19:H19)<3,"",IF(G19=F19,IF(H19=G19,1,0),MAX(0,MIN(1,(H19-F19)/(G19-F19))))) | J19: =IF(D19="","",_xlfn.XLOOKUP(D19,'Check-ins'!$B$2:$B$500,'Check-ins'!$D$2:$D$500,"No status",0,-1)) | K19: =IF(D19="","",_xlfn.XLOOKUP(D19,'Check-ins'!$B$2:$B$500,'Check-ins'!$A$2:$A$500,"",0,-1)) | L19: =IF(D19="","",TODAY()-IF(K19="",Settings!$B$1,K19)) | M19: =I19
H20: =IF(D20="","",_xlfn.XLOOKUP(D20,'Check-ins'!$B$2:$B$500,'Check-ins'!$C$2:$C$500,F20,0,-1)) | I20: =IF(COUNT(F20:H20)<3,"",IF(G20=F20,IF(H20=G20,1,0),MAX(0,MIN(1,(H20-F20)/(G20-F20))))) | J20: =IF(D20="","",_xlfn.XLOOKUP(D20,'Check-ins'!$B$2:$B$500,'Check-ins'!$D$2:$D$500,"No status",0,-1)) | K20: =IF(D20="","",_xlfn.XLOOKUP(D20,'Check-ins'!$B$2:$B$500,'Check-ins'!$A$2:$A$500,"",0,-1)) | L20: =IF(D20="","",TODAY()-IF(K20="",Settings!$B$1,K20)) | M20: =I20
... H31: =IF(D31="","",_xlfn.XLOOKUP(D31,'Check-ins'!$B$2:$B$500,'Check-ins'!$C$2:$C$500,F31,0,-1)) | I31: =IF(COUNT(F31:H31)<3,"",IF(G31=F31,IF(H31=G31,1,0),MAX(0,MIN(1,(H31-F31)/(G31-F31))))) | J31: =IF(D31="","",_xlfn.XLOOKUP(D31,'Check-ins'!$B$2:$B$500,'Check-ins'!$D$2:$D$500,"No status",0,-1)) | K31: =IF(D31="","",_xlfn.XLOOKUP(D31,'Check-ins'!$B$2:$B$500,'Check-ins'!$A$2:$A$500,"",0,-1)) | L31: =IF(D31="","",TODAY()-IF(K31="",Settings!$B$1,K31)) | M31: =I31

Sheet Check-ins
A1: Date | B1: KR ID | C1: Value | D1: Health | E1: Comment | F1: Entered by
A2: =TODAY()-20 | B2: S-1 | C2: 19.5 | D2: On track | E2: Example: two demos closed this week | F2: Dana
A3: =TODAY()-19 | B3: S-2 | C3: 54 | D3: On track | E3: Example: added a second person to the inbox rota | F3: Lee
A4: =TODAY()-15 | B4: S-3 | C4: 1 | D4: On track | E4: Example: first reseller signed; three more in legal | F4: Dana
A5: =TODAY()-13 | B5: S-1 | C5: 21 | D5: On track | E5: Example: pipeline review done; next, two proposals | F5: Dana
A6: =TODAY()-12 | B6: S-2 | C6: 41 | D6: On track | E6: Example: auto-triage rules live for the top 5 topics | F6: Lee
A7: =TODAY()-10 | B7: P-2 | C7: 38 | D7: Behind | E7: Example: the new welcome email didn't move activation | F7: Omar
A8: =TODAY()-9 | B8: C-1 | C8: 2.8 | D8: On track | E8: Example: two at-risk accounts saved by early calls | F8: Mia
A9: =TODAY()-6 | B9: S-1 | C9: 21.5 | D9: At risk | E9: Example: two deals slipped to next quarter | F9: Dana
A10: =TODAY()-5 | B10: S-2 | C10: 30 | D10: On track | E10: Example: weekend shift started; queue under 30 hours | F10: Lee
A11: =TODAY()-4 | B11: P-1 | C11: 0 | D11: At risk | E11: Example: design done; build slipped a week | F11: Ana
A12: =TODAY()-3 | B12: P-2 | C12: 39 | D12: Behind | E12: Example: testing a shorter setup flow next week | F12: Omar
A13: =TODAY()-2 | B13: C-1 | C13: 2.6 | D13: On track | E13: Example: churn interviews scheduled with 6 accounts | F13: Mia

Sheet Settings
A1: Cycle start | B1: =DATE(YEAR(TODAY()),INT((MONTH(TODAY())-1)/3)*3+1,1) | C1: Formula: the first day of the current quarter. Type your own date over it.
A2: Cycle end | B2: =EDATE(B1,3)-1 | C2: Formula: the last day of that quarter. Type your own date over it.
A3: Stale after (days) | B3: 7 | C3: 7 for weekly check-ins, 14 for every two weeks.
A5: Health options
A6: On track | C6: The Health drop-down on the Check-ins tab reads this list.
A7: At risk
A8: Behind
